BEGIN:VCALENDAR
VERSION:2.0
PRODID:-//Darkflower//Events//DE
BEGIN:VEVENT
UID:darkflower-2469-floor1
DTSTAMP:20260425T144559Z
DTSTART:20260430T220000Z
SUMMARY:Dirty Eighties
DESCRIPTION:Ein kleines Revival in der 80s Partyreihe. DJ ketchuptoast und DJ Porno geben sich nach langer Zeit wieder gemeinsam die Ehre und unterhalten mit Musik der 80er und ist sie noch so schmutzig.
Es verspricht ein lustiger und tanzlastiger Abend zu werden.

80s Rock und Pop
DJs: 
LOCATION:Darkflower Leipzig
END:VEVENT
END:VCALENDAR