BEGIN:VCALENDAR
VERSION:2.0
PRODID:-//Darkflower//Events//DE
BEGIN:VEVENT
UID:darkflower-2532-floor1
DTSTAMP:20260423T161704Z
DTSTART:20260521T200000Z
SUMMARY:WGT 2026 - Obsessed Noire Night
DESCRIPTION:
DJs: DJ Tom Gold (The Castle, Tampa, USA) DJ Noizu (Club Infektio , Finnland) DJ Erasorhead (Near Dark, Schwarzer Reigen, Österreich) Resident-DJ SGindustry
LOCATION:Darkflower Leipzig
END:VEVENT
END:VCALENDAR